BEGIN:VCALENDAR
VERSION:2.0
PRODID:-//AudioTheme 2.0.1
BEGIN:VEVENT
UID:urn:uuid:6e9f79e8-dbb7-4a84-8046-286e5d3580d3
URL:https://www.timsullivancomedy.com/shows/rhythm-city-casino/
DTSTART;TZID=GMT:20251212T013000
SUMMARY:Davenport River Center
LOCATION:River Center\, 136 E 3rd St\, Davenport\, Iowa\, United States\, 52801
END:VEVENT
END:VCALENDAR
