BEGIN:VCALENDAR
VERSION:2.0
PRODID:-//AudioTheme 2.0.1
BEGIN:VEVENT
UID:urn:uuid:c14c011f-b382-48f5-b0ea-04109050bdf9
URL:https://www.timsullivancomedy.com/shows/olympic-theater/
DTSTART;TZID=GMT:20260201T013000
SUMMARY:OLYMPIC THEATER
DESCRIPTION:This show will be a celebration of my thirty years of performing live comedy. I started back in 1996 and am bring a show to my hometown (Cedar Rapids\, Iowa) on January 31st. I picked this date because it is the Saturday week in between the last NFL playoff games and the Super Bowl\, so it will be a fun night to go out. I am going to be bringing my original comedy material to the stage with some classics that are fan favorite jokes over the years and some new material. I will also be telling a few stories from my many years in comedy. I also plan to bring in several guest comedians from my past to open as well as a few surprise performers. I really hope to see you there as this will be a really fun show! Get your tickets in the link. 
LOCATION:Olympic Theater\, 1202 3rd Street SE #200 In the NewBo District\, Cedar Rapids\, Iowa\, United States\, 52401
END:VEVENT
END:VCALENDAR
