BEGIN:VCALENDAR
VERSION:2.0
PRODID:-//AudioTheme 2.0.1
BEGIN:VEVENT
UID:urn:uuid:9e832e38-823d-43a3-9b21-2bb339fd3c68
URL:https://www.timsullivancomedy.com/shows/memorial-auditorium/
DTSTART;TZID=GMT:20251205T013000
SUMMARY:Memorial Auditorium
LOCATION:Memorial Auditorium\, 200 N Front St\, Burlington\, Iowa\, United States\, 52601
END:VEVENT
END:VCALENDAR
