BEGIN:VCALENDAR
VERSION:2.0
PRODID:-//AudioTheme 2.0.1
BEGIN:VEVENT
UID:urn:uuid:175c3429-ce7c-44c2-a93f-c10f173b7d47
URL:https://www.timsullivancomedy.com/shows/arthur-house/
DTSTART;TZID=GMT:20250215T013000
SUMMARY:CROSSROADS
LOCATION:Memorial Auditorium\, 200 N Front St\, Burlington\, Iowa\, United States\, 52601
END:VEVENT
END:VCALENDAR
