BEGIN:VCALENDAR
VERSION:2.0
PRODID:-//AudioTheme 2.0.1
BEGIN:VEVENT
UID:urn:uuid:dc7a21ce-3df9-4752-bbf1-7eeb577702e3
URL:https://www.timsullivancomedy.com/shows/arthur-house-2/
DTSTART;TZID=GMT:20250216T013000
SUMMARY:CROSSROADS
LOCATION:Memorial Auditorium\, 200 N Front St\, Burlington\, Iowa\, United States\, 52601
END:VEVENT
END:VCALENDAR
